BEGIN:VCALENDAR
VERSION:2.0
PRODID:-//Plone.org//NONSGML plone.app.event//EN
X-WR-TIMEZONE:Europe/Madrid
BEGIN:VEVENT
SUMMARY:Xocolatada solidària
DTSTART;TZID=Europe/Madrid:20221212T110000
DTEND;TZID=Europe/Madrid:20221212T120000
DTSTAMP:20260424T195710Z
UID:fb9acc48c30a4cb782567279d352778b@fme.upc.edu
CONTACT:https://www.ccma.cat/tv3/marato/2022/290/
CREATED:20221124T132825Z
DESCRIPTION:Organitzada per la Delegació d'Estudiants FME i els diners ob
 tinguts es destinaran a la Marató de TV3 que enguany es dedica a la salut
  cardiovascular.
LAST-MODIFIED:20221201T080229Z
LOCATION:Vestíbul FME
URL:https://fme.upc.edu/ca/esdeveniments/xocolatada-solidaria
END:VEVENT
BEGIN:VTIMEZONE
TZID:Europe/Madrid
X-LIC-LOCATION:Europe/Madrid
BEGIN:STANDARD
DTSTART:20221030T020000
TZNAME:CET
TZOFFSETFROM:+0200
TZOFFSETTO:+0100
END:STANDARD
END:VTIMEZONE
END:VCALENDAR
