BEGIN:VCALENDAR
VERSION:2.0
PRODID:-//Plone.org//NONSGML plone.app.event//EN
X-WR-TIMEZONE:Europe/Madrid
BEGIN:VEVENT
SUMMARY:Píndoles de Docència Matemàtica - 2a sessió
DTSTART;TZID=Europe/Madrid:20240313T120000
DTEND;TZID=Europe/Madrid:20240313T123000
DTSTAMP:20260420T091258Z
UID:dcfdf0d1e0d946efa449aeaeaa779810@fme.upc.edu
CONTACT:https://fme.upc.edu/ca/la-facultat/activitats/2023-2024/pindoles-d
 ocencia-2024
CREATED:20240214T075737Z
DESCRIPTION:Són sessions de mitja hora que ens presenten eines de visuali
 tzació\, càlcul\, interacció amb els estudiants que poden ser aplicades
  per a millorar la docència de les Matemàtiques en l'àmbit universitari
 . Format híbrid.
LAST-MODIFIED:20240306T152309Z
LOCATION:Sala d'actes FME
URL:https://fme.upc.edu/ca/esdeveniments/pindoles-de-docencia-matematica-2
 a-sessio
END:VEVENT
BEGIN:VTIMEZONE
TZID:Europe/Madrid
X-LIC-LOCATION:Europe/Madrid
BEGIN:STANDARD
DTSTART:20231029T020000
TZNAME:CET
TZOFFSETFROM:+0200
TZOFFSETTO:+0100
END:STANDARD
END:VTIMEZONE
END:VCALENDAR
