BEGIN:VCALENDAR
VERSION:2.0
PRODID:-//Plone.org//NONSGML plone.app.event//EN
X-WR-TIMEZONE:Europe/Madrid
BEGIN:VEVENT
SUMMARY:Olimpíada Matemàtica Catalana
DTSTART;TZID=Europe/Madrid:20211209T140000
DTEND;TZID=Europe/Madrid:20211210T200000
DTSTAMP:20260420T152707Z
UID:5a02370ad1dd46d4963d1c6ea9ffd893@fme.upc.edu
CONTACT:https://www.cangur.org/olimpiades/
CREATED:20211125T131435Z
LAST-MODIFIED:20211125T131440Z
LOCATION:Diferents aules FME
URL:https://fme.upc.edu/ca/esdeveniments/olimpiada-matematica-catalana
END:VEVENT
BEGIN:VTIMEZONE
TZID:Europe/Madrid
X-LIC-LOCATION:Europe/Madrid
BEGIN:STANDARD
DTSTART:20211031T020000
TZNAME:CET
TZOFFSETFROM:+0200
TZOFFSETTO:+0100
END:STANDARD
END:VTIMEZONE
END:VCALENDAR
