BEGIN:VCALENDAR
VERSION:2.0
PRODID:-//Plone.org//NONSGML plone.app.event//EN
X-WR-TIMEZONE:Europe/Madrid
BEGIN:VEVENT
SUMMARY:Junta de Facultat FME
DTSTART;TZID=Europe/Madrid:20181219T123000
DTEND;TZID=Europe/Madrid:20181219T133000
DTSTAMP:20260420T162145Z
UID:5a274cfc0bab467b84db523b0198a20f@fme.upc.edu
CREATED:20181219T081955Z
LAST-MODIFIED:20181219T082032Z
LOCATION:Sala de juntes FME
URL:https://fme.upc.edu/ca/esdeveniments/junta-de-facultat-fme-8
END:VEVENT
BEGIN:VTIMEZONE
TZID:Europe/Madrid
X-LIC-LOCATION:Europe/Madrid
BEGIN:STANDARD
DTSTART:20181028T020000
TZNAME:CET
TZOFFSETFROM:+0200
TZOFFSETTO:+0100
END:STANDARD
END:VTIMEZONE
END:VCALENDAR
