BEGIN:VCALENDAR
VERSION:2.0
PRODID:-//Plone.org//NONSGML plone.app.event//EN
X-WR-TIMEZONE:Europe/Madrid
BEGIN:VEVENT
SUMMARY:Junta de Facultat FME
DTSTART;TZID=Europe/Madrid:20221221T153000
DTEND;TZID=Europe/Madrid:20221221T163000
DTSTAMP:20260420T193232Z
UID:9ac4a35dbe5d401ca2f0500f23184f92@fme.upc.edu
CREATED:20221201T110938Z
LAST-MODIFIED:20221214T091424Z
LOCATION:Sala de juntes- Híbrida
URL:https://fme.upc.edu/ca/esdeveniments/junta-de-facultat-fme-17
END:VEVENT
BEGIN:VTIMEZONE
TZID:Europe/Madrid
X-LIC-LOCATION:Europe/Madrid
BEGIN:STANDARD
DTSTART:20221030T020000
TZNAME:CET
TZOFFSETFROM:+0200
TZOFFSETTO:+0100
END:STANDARD
END:VTIMEZONE
END:VCALENDAR
