BEGIN:VCALENDAR
VERSION:2.0
PRODID:-//Plone.org//NONSGML plone.app.event//EN
X-WR-TIMEZONE:Europe/Madrid
BEGIN:VEVENT
SUMMARY:56a Olimpíada Matemàtica Espanyola- delegació Catalana
DTSTART;TZID=Europe/Madrid:20200714T090000
DTEND;TZID=Europe/Madrid:20200715T140000
DTSTAMP:20260424T150347Z
UID:261fa0633f7048b997abaa370f3f9542@fme.upc.edu
CREATED:20200708T065047Z
DESCRIPTION:Prova per l'alumnat classificat de la Delegació catalana per 
 decidir l'equip definitiu que representarà Catalunya a la 56a OME
LAST-MODIFIED:20200708T065323Z
LOCATION:Aula 004
URL:https://fme.upc.edu/ca/esdeveniments/final-56a-olimpiada-matematica-es
 panyola-delegacio-catalana
END:VEVENT
BEGIN:VTIMEZONE
TZID:Europe/Madrid
X-LIC-LOCATION:Europe/Madrid
BEGIN:DAYLIGHT
DTSTART:20200329T030000
TZNAME:CEST
TZOFFSETFROM:+0100
TZOFFSETTO:+0200
END:DAYLIGHT
END:VTIMEZONE
END:VCALENDAR
