BEGIN:VCALENDAR
VERSION:2.0
PRODID:-//Plone.org//NONSGML plone.app.event//EN
X-WR-TIMEZONE:Europe/Madrid
BEGIN:VEVENT
SUMMARY:Curs Summer School 2024: "Introduction to Compositional Data Analy
 sis"
DTSTART;TZID=Europe/Madrid:20240701T090000
DTEND;TZID=Europe/Madrid:20240704T120000
DTSTAMP:20260420T121649Z
UID:0a801fb9eea748a797d50eedefe70a05@fme.upc.edu
CONTACT:https://mesioupcub.masters.upc.edu/en/xvii-summer-school-2024/cour
 ses/introduction-to-compositional-data-analysis
CREATED:20240625T073615Z
LAST-MODIFIED:20240625T073623Z
URL:https://fme.upc.edu/ca/esdeveniments/curs-summer-school-2024-introduct
 ion-to-compositional-data-analysis
END:VEVENT
BEGIN:VTIMEZONE
TZID:Europe/Madrid
X-LIC-LOCATION:Europe/Madrid
BEGIN:DAYLIGHT
DTSTART:20240331T030000
TZNAME:CEST
TZOFFSETFROM:+0100
TZOFFSETTO:+0200
END:DAYLIGHT
END:VTIMEZONE
END:VCALENDAR
