BEGIN:VCALENDAR
VERSION:2.0
PRODID:-//Plone.org//NONSGML plone.app.event//EN
X-WR-TIMEZONE:Europe/Madrid
BEGIN:VEVENT
SUMMARY:Curs d'estiu d'Algorísmia i Programació adreçat a alumnat de se
 cundària i batxillerat
DTSTART;TZID=Europe/Madrid:20240708T110000
DTEND;TZID=Europe/Madrid:20240712T120000
DTSTAMP:20260420T152704Z
UID:3bd882d0646e4a4582bb19e5d6dac325@fme.upc.edu
CONTACT:https://algoprog.jutge.org/
CREATED:20240625T092144Z
DESCRIPTION:L’objectiu general del curs és aprendre a programar en el l
 lenguatge C++\, i a resoldre problemes algorísmics amb ordinador.  Més e
 n concret\, es pretén que els estudiants arribin a escriure amb fluïdesa
  programes que resolguin problemes interessants com els que apareixen a l
 ’Olimpíada Informàtica. Aquestes habilitats són útils en altres àre
 es\, en particular en les matemàtiques.
LAST-MODIFIED:20240625T092240Z
URL:https://fme.upc.edu/ca/esdeveniments/curs-destiu-dalgorismia-i-program
 acio
END:VEVENT
BEGIN:VTIMEZONE
TZID:Europe/Madrid
X-LIC-LOCATION:Europe/Madrid
BEGIN:DAYLIGHT
DTSTART:20240331T030000
TZNAME:CEST
TZOFFSETFROM:+0100
TZOFFSETTO:+0200
END:DAYLIGHT
END:VTIMEZONE
END:VCALENDAR
