BEGIN:VCALENDAR
VERSION:2.0
PRODID:-//Plone.org//NONSGML plone.app.event//EN
X-WR-TIMEZONE:Europe/Madrid
BEGIN:VEVENT
SUMMARY:Curs de Programació d'estiu
DTSTART;TZID=Europe/Madrid:20230717T100000
DTEND;TZID=Europe/Madrid:20230722T110000
DTSTAMP:20260420T130519Z
UID:25af36f7477a493290f590a5331e0189@fme.upc.edu
CREATED:20230412T082044Z
DESCRIPTION:Organitzat pel professor Salvador Roura i adreçat a alumnat d
 'ESO i Batxillerat. Amb la col·laboració de la Càtedra Mir-Puig.
LAST-MODIFIED:20230608T122029Z
LOCATION:aules informàtiques FME
URL:https://fme.upc.edu/ca/esdeveniments/curs-de-programacio-destiu
END:VEVENT
BEGIN:VTIMEZONE
TZID:Europe/Madrid
X-LIC-LOCATION:Europe/Madrid
BEGIN:DAYLIGHT
DTSTART:20230326T030000
TZNAME:CEST
TZOFFSETFROM:+0100
TZOFFSETTO:+0200
END:DAYLIGHT
END:VTIMEZONE
END:VCALENDAR
