BEGIN:VCALENDAR
VERSION:2.0
PRODID:-//Plone.org//NONSGML plone.app.event//EN
X-WR-TIMEZONE:Europe/Madrid
BEGIN:VEVENT
SUMMARY:Company Workshop: Banc de Sabadell
DTSTART;TZID=Europe/Madrid:20221214T080000
DTEND;TZID=Europe/Madrid:20221214T100000
DTSTAMP:20260420T102553Z
UID:c6b6728e3fcd48629fd4841f9236631e@fme.upc.edu
CREATED:20221202T071748Z
DESCRIPTION:En el marc de l'assignatura "Models Matemàtics de la Tecnolog
 ia"\, nova sessió oberta a tot l'estudiantat de l'FME.
LAST-MODIFIED:20221202T071755Z
LOCATION:Aula 002
URL:https://fme.upc.edu/ca/esdeveniments/company-workshop-banc-de-sabadell
END:VEVENT
BEGIN:VTIMEZONE
TZID:Europe/Madrid
X-LIC-LOCATION:Europe/Madrid
BEGIN:STANDARD
DTSTART:20221030T020000
TZNAME:CET
TZOFFSETFROM:+0200
TZOFFSETTO:+0100
END:STANDARD
END:VTIMEZONE
END:VCALENDAR
