BEGIN:VCALENDAR
VERSION:2.0
PRODID:-//Plone.org//NONSGML plone.app.event//EN
X-WR-TIMEZONE:Europe/Madrid
BEGIN:VEVENT
SUMMARY:Barcelona Spring Matholympiad
DTSTART;TZID=Europe/Madrid:20230520T093000
DTEND;TZID=Europe/Madrid:20230520T103000
DTSTAMP:20260424T143326Z
UID:d7c815d2b5d84e42aaede7861a1a45c7@fme.upc.edu
CREATED:20230515T112110Z
DESCRIPTION:CATEGORY I and CATEGORY II
LAST-MODIFIED:20230515T112114Z
LOCATION:Aula 101
URL:https://fme.upc.edu/ca/esdeveniments/barcelona-spring-matholympiad
END:VEVENT
BEGIN:VTIMEZONE
TZID:Europe/Madrid
X-LIC-LOCATION:Europe/Madrid
BEGIN:DAYLIGHT
DTSTART:20230326T030000
TZNAME:CEST
TZOFFSETFROM:+0100
TZOFFSETTO:+0200
END:DAYLIGHT
END:VTIMEZONE
END:VCALENDAR
