BEGIN:VCALENDAR
VERSION:2.0
PRODID:-//Plone.org//NONSGML plone.app.event//EN
X-WR-TIMEZONE:Europe/Madrid
BEGIN:VEVENT
SUMMARY:4a edició del concurs Integration Bee
DTSTART;TZID=Europe/Madrid:20260430T150000
DTEND;TZID=Europe/Madrid:20260430T160000
DTSTAMP:20260420T115429Z
UID:262b7e62d12c4152ba97e67c5a441d5e@fme.upc.edu
CONTACT:https://cfis.upc.edu/ca/esdeveniments/concurs-integration-bee
CREATED:20260324T073749Z
DESCRIPTION:Activitat organitzada per estudiants del CFIS\, amb la col·la
 boració del CFIS.
LAST-MODIFIED:20260324T073801Z
URL:https://fme.upc.edu/ca/esdeveniments/4a-edicio-del-concurs-integration
 -bee
END:VEVENT
BEGIN:VTIMEZONE
TZID:Europe/Madrid
X-LIC-LOCATION:Europe/Madrid
BEGIN:DAYLIGHT
DTSTART:20260329T030000
TZNAME:CEST
TZOFFSETFROM:+0100
TZOFFSETTO:+0200
END:DAYLIGHT
END:VTIMEZONE
END:VCALENDAR
