BEGIN:VCALENDAR
VERSION:2.0
PRODID:-//Plone.org//NONSGML plone.app.event//EN
X-WR-TIMEZONE:Europe/Madrid
BEGIN:VEVENT
SUMMARY:3a edició de la Datathon FME 2023
DTSTART;TZID=Europe/Madrid:20231112T080000
DTEND;TZID=Europe/Madrid:20231113T170000
DTSTAMP:20260425T195009Z
UID:396ac29125b446758ca1d265213b6b08@fme.upc.edu
CONTACT:https://datathon.cat/
CREATED:20231027T064046Z
LAST-MODIFIED:20231027T064056Z
LOCATION:Diferents espais FME
URL:https://fme.upc.edu/ca/esdeveniments/3a-edicio-de-la-datathon-fme-2023
END:VEVENT
BEGIN:VTIMEZONE
TZID:Europe/Madrid
X-LIC-LOCATION:Europe/Madrid
BEGIN:STANDARD
DTSTART:20231029T020000
TZNAME:CET
TZOFFSETFROM:+0200
TZOFFSETTO:+0100
END:STANDARD
END:VTIMEZONE
END:VCALENDAR
